BEGIN:VCALENDAR
VERSION:2.0
PRODID:-//Weinschule Berlin - ECPv6.15.12.2//NONSGML v1.0//EN
CALSCALE:GREGORIAN
METHOD:PUBLISH
X-WR-CALNAME:Weinschule Berlin
X-ORIGINAL-URL:https://www.weinseminar.de
X-WR-CALDESC:Veranstaltungen für Weinschule Berlin
REFRESH-INTERVAL;VALUE=DURATION:PT1H
X-Robots-Tag:noindex
X-PUBLISHED-TTL:PT1H
BEGIN:VTIMEZONE
TZID:Europe/Berlin
BEGIN:DAYLIGHT
TZOFFSETFROM:+0100
TZOFFSETTO:+0200
TZNAME:CEST
DTSTART:20250330T010000
END:DAYLIGHT
BEGIN:STANDARD
TZOFFSETFROM:+0200
TZOFFSETTO:+0100
TZNAME:CET
DTSTART:20251026T010000
END:STANDARD
BEGIN:DAYLIGHT
TZOFFSETFROM:+0100
TZOFFSETTO:+0200
TZNAME:CEST
DTSTART:20260329T010000
END:DAYLIGHT
BEGIN:STANDARD
TZOFFSETFROM:+0200
TZOFFSETTO:+0100
TZNAME:CET
DTSTART:20261025T010000
END:STANDARD
BEGIN:DAYLIGHT
TZOFFSETFROM:+0100
TZOFFSETTO:+0200
TZNAME:CEST
DTSTART:20270328T010000
END:DAYLIGHT
BEGIN:STANDARD
TZOFFSETFROM:+0200
TZOFFSETTO:+0100
TZNAME:CET
DTSTART:20271031T010000
END:STANDARD
END:VTIMEZONE
BEGIN:VEVENT
DTSTART;TZID=Europe/Berlin:20261024T183000
DTEND;TZID=Europe/Berlin:20261024T220000
DTSTAMP:20260421T211447
CREATED:20260325T173406Z
LAST-MODIFIED:20260325T175523Z
UID:9283-1792866600-1792879200@www.weinseminar.de
SUMMARY:Gourmetseminar Käse (ausgebucht)
DESCRIPTION:Definitiv eines der Highlights unseres Seminarprogramms. Probieren Sie die teils gewagten Käse- und Weinkombinationen und lernen Sie viel über das wunderbare Käseland Frankreich. Für alle\, denen der Käseigel nicht ausreicht.
URL:https://www.weinseminar.de/event/gourmetseminar-kaese/
CATEGORIES:Käseseminar
ATTACH;FMTTYPE=image/jpeg:https://www.weinseminar.de/wp-content/uploads/2017/05/kaeseseminare-wein-fotolia_32493116-min.jpg
ORGANIZER;CN="Bernhard Moser":MAILTO:info@weinschule-berlin.de
END:VEVENT
END:VCALENDAR