BEGIN:VCALENDAR
VERSION:2.0
PRODID:-//Weinschule Berlin - ECPv6.15.12.2//NONSGML v1.0//EN
CALSCALE:GREGORIAN
METHOD:PUBLISH
X-WR-CALNAME:Weinschule Berlin
X-ORIGINAL-URL:https://www.weinseminar.de
X-WR-CALDESC:Veranstaltungen für Weinschule Berlin
REFRESH-INTERVAL;VALUE=DURATION:PT1H
X-Robots-Tag:noindex
X-PUBLISHED-TTL:PT1H
BEGIN:VTIMEZONE
TZID:Europe/Berlin
BEGIN:DAYLIGHT
TZOFFSETFROM:+0100
TZOFFSETTO:+0200
TZNAME:CEST
DTSTART:20250330T010000
END:DAYLIGHT
BEGIN:STANDARD
TZOFFSETFROM:+0200
TZOFFSETTO:+0100
TZNAME:CET
DTSTART:20251026T010000
END:STANDARD
BEGIN:DAYLIGHT
TZOFFSETFROM:+0100
TZOFFSETTO:+0200
TZNAME:CEST
DTSTART:20260329T010000
END:DAYLIGHT
BEGIN:STANDARD
TZOFFSETFROM:+0200
TZOFFSETTO:+0100
TZNAME:CET
DTSTART:20261025T010000
END:STANDARD
BEGIN:DAYLIGHT
TZOFFSETFROM:+0100
TZOFFSETTO:+0200
TZNAME:CEST
DTSTART:20270328T010000
END:DAYLIGHT
BEGIN:STANDARD
TZOFFSETFROM:+0200
TZOFFSETTO:+0100
TZNAME:CET
DTSTART:20271031T010000
END:STANDARD
END:VTIMEZONE
BEGIN:VEVENT
DTSTART;TZID=Europe/Berlin:20260424T183000
DTEND;TZID=Europe/Berlin:20260424T223000
DTSTAMP:20260422T194805
CREATED:20250918T103220Z
LAST-MODIFIED:20260127T133135Z
UID:10000037-1777055400-1777069800@www.weinseminar.de
SUMMARY:Regionseminar Italien
DESCRIPTION:Entdecken Sie die spannendsten Regionen und erfahren Sie mehr über das großartige Weinland Italien. Das Land macht uns immer wieder glücklich und lässt uns gleichermaßen verzweifeln. Warum\, erfahren Sie an diesem Abend.
URL:https://www.weinseminar.de/event/regionsseminar-italien/
LOCATION:Weinschule Berlin\, Goethestraße 71\, Berlin\, Berlin\, 10625\, Germany
CATEGORIES:Italien,Regionsseminare
ATTACH;FMTTYPE=image/jpeg:https://www.weinseminar.de/wp-content/uploads/2025/09/village-3667395_1280.jpg
ORGANIZER;CN="Bernhard Moser":MAILTO:info@weinschule-berlin.de
END:VEVENT
BEGIN:VEVENT
DTSTART;TZID=Europe/Berlin:20260425T183000
DTEND;TZID=Europe/Berlin:20260425T223000
DTSTAMP:20260422T194805
CREATED:20260127T131125Z
LAST-MODIFIED:20260127T131125Z
UID:10000063-1777141800-1777156200@www.weinseminar.de
SUMMARY:Grundseminar: Umgang mit Wein
DESCRIPTION:Entscheiden Sie im Supermarkt nach dem Design des Etiketts? Wissen Sie\, was bei der Produktion von Wein passiert und was guten von schlechten Wein unterscheidet? Warum variieren die Preise so enorm? Guter Winzer-böser Winzer…was ist beim traditionellen Weinbau anders\, als beim industriellen? Was regelt das Weingesetz\, uvm…?
URL:https://www.weinseminar.de/event/grundseminar-umgang-mit-wein/
LOCATION:Weinschule Berlin\, Goethestraße 71\, Berlin\, Berlin\, 10625\, Germany
CATEGORIES:Grundseminar,Grundseminar Umgang
ATTACH;FMTTYPE=image/jpeg:https://www.weinseminar.de/wp-content/uploads/2017/05/wein-erste-blueten-fotolia_619303-min.jpg
ORGANIZER;CN="Bernhard Moser":MAILTO:info@weinschule-berlin.de
END:VEVENT
BEGIN:VEVENT
DTSTART;TZID=Europe/Berlin:20260508T183000
DTEND;TZID=Europe/Berlin:20260508T223000
DTSTAMP:20260422T194805
CREATED:20250918T102513Z
LAST-MODIFIED:20260202T194527Z
UID:10000036-1778265000-1778279400@www.weinseminar.de
SUMMARY:Regionsseminar Spanien
DESCRIPTION:Was für eine Region! In den 80er Jahren noch Außenseiter\, startete Spanien in den 90ern so richtig durch. Ribera del Duero\, Rioja und das Priorat sind zu allererst zu nennen. \nDoch gibt es Weinregionen mit deutlich besserem Preis-Leistungsverhältnis. \nSchon mal was von „Somontano“ gehört?
URL:https://www.weinseminar.de/event/regionsseminar-spanien-2/
LOCATION:Weinschule Berlin\, Goethestraße 71\, Berlin\, Berlin\, 10625\, Germany
CATEGORIES:Regionsseminare,Spanien
ATTACH;FMTTYPE=image/jpeg:https://www.weinseminar.de/wp-content/uploads/2025/11/barrel-4294861_1280.jpg
ORGANIZER;CN="Bernhard Moser":MAILTO:info@weinschule-berlin.de
END:VEVENT
BEGIN:VEVENT
DTSTART;TZID=Europe/Berlin:20260530T183000
DTEND;TZID=Europe/Berlin:20260530T223000
DTSTAMP:20260422T194805
CREATED:20251208T125457Z
LAST-MODIFIED:20260202T194434Z
UID:10000059-1780165800-1780180200@www.weinseminar.de
SUMMARY:Regionsseminar Österreich
DESCRIPTION:„Auferstanden aus Ruinen“: Kein anderes Weinland hat es nach einem Weinskandal (1985) geschafft\, sich so grundlegend neu zu erfinden wie Österreich. Was zeichnen die Südsteiermark\, das Burgenland und Niederösterreich aus? Was ist der Unterschied zwischen der Wachau und dem Kamptal? Warum agieren Riesling und Grüner Veltliner auf Augenhöhe\, und was ist das Geheimnis der ostösterreichischen Supercuvées aus Zweigelt und Blaufränkisch? In diesem Seminar profitieren Sie zudem von unserer sehr umfangreichen Raritätensammlung österreichischer Weine.
URL:https://www.weinseminar.de/event/regionsseminar-oesterreich/
LOCATION:Weinschule Berlin\, Goethestraße 71\, Berlin\, Berlin\, 10625\, Germany
CATEGORIES:Regionsseminare
ATTACH;FMTTYPE=image/jpeg:https://www.weinseminar.de/wp-content/uploads/2025/12/mountains-1752433_1280.jpg
ORGANIZER;CN="Bernhard Moser":MAILTO:info@weinschule-berlin.de
END:VEVENT
BEGIN:VEVENT
DTSTART;TZID=Europe/Berlin:20260605T183000
DTEND;TZID=Europe/Berlin:20260605T220000
DTSTAMP:20260422T194805
CREATED:20260127T130555Z
LAST-MODIFIED:20260202T194348Z
UID:10000062-1780684200-1780696800@www.weinseminar.de
SUMMARY:Käseseminar für Mutige
DESCRIPTION:Beim Käseseminar nehmen wir noch Rücksicht\, auf die Befindlichkeiten mancher Menschen. Nicht stinken darf er\, der Käse. Nicht zu streng schmecken darf er\, der Käse. Aber nicht an diesem Abend. Beim Käseseminar für Mutige gehen wir an unsere Grenzen – und darüber. Womit wir diese extremen Käse kombinieren\, das sehen Sie an diesem Abend.\nWein allein wird nicht mehr reichen.
URL:https://www.weinseminar.de/event/kaeseseminar-fuer-mutige-2/
LOCATION:Weinschule Berlin\, Goethestraße 71\, Berlin\, Berlin\, 10625\, Germany
CATEGORIES:Käseseminar,Käseseminar für Mutige
ATTACH;FMTTYPE=image/jpeg:https://www.weinseminar.de/wp-content/uploads/2025/09/normandy-2068748_1280.jpg
ORGANIZER;CN="Bernhard Moser":MAILTO:info@weinschule-berlin.de
END:VEVENT
BEGIN:VEVENT
DTSTART;TZID=Europe/Berlin:20260612T183000
DTEND;TZID=Europe/Berlin:20260612T223000
DTSTAMP:20260422T194805
CREATED:20250918T101517Z
LAST-MODIFIED:20260202T194304Z
UID:10000035-1781289000-1781303400@www.weinseminar.de
SUMMARY:Regionsseminar Frankreich
DESCRIPTION:Verwirrland Frankreich: keine andere Weinregion macht uns so viel Angst wie diese. Kein Wunder bei über 400 Appellationen. Appella… was? Genau das klären wir! Eigentlich ist alles gar nicht so kompliziert. Wir trinken uns von Nord nach Süd.
URL:https://www.weinseminar.de/event/regionsseminar-frankreich-3/
LOCATION:Weinschule Berlin\, Goethestraße 71\, Berlin\, Berlin\, 10625\, Germany
CATEGORIES:Frankreich,Regionsseminare
ATTACH;FMTTYPE=image/jpeg:https://www.weinseminar.de/wp-content/uploads/2025/09/grapes-1618308_1280.jpg
ORGANIZER;CN="Bernhard Moser":MAILTO:info@weinschule-berlin.de
END:VEVENT
BEGIN:VEVENT
DTSTART;TZID=Europe/Berlin:20260626T183000
DTEND;TZID=Europe/Berlin:20260626T220000
DTSTAMP:20260422T194805
CREATED:20260211T072239Z
LAST-MODIFIED:20260211T072239Z
UID:10000067-1782498600-1782511200@www.weinseminar.de
SUMMARY:Degustationsabend
DESCRIPTION:Essen und Wein: wohl die einzige Ehe\, die unscheidbar ist. Doch wie funktioniert es? Wild zu Rotwein und Zander zu Riesling\, das scheint noch nachvollziehbar. Aber wozu kann man denn einen Gewürztraminer trinken?
URL:https://www.weinseminar.de/event/degustationsabend/
LOCATION:Weinschule Berlin\, Goethestraße 71\, Berlin\, Berlin\, 10625\, Germany
CATEGORIES:Degustationsabend,Essen und Wein
ATTACH;FMTTYPE=image/jpeg:https://www.weinseminar.de/wp-content/uploads/2017/05/Rotweinglas-weinseminar-berlin_5724846-min.jpg
ORGANIZER;CN="Bernhard Moser":MAILTO:info@weinschule-berlin.de
END:VEVENT
BEGIN:VEVENT
DTSTART;TZID=Europe/Berlin:20260703T183000
DTEND;TZID=Europe/Berlin:20260703T220000
DTSTAMP:20260422T194805
CREATED:20260305T152655Z
LAST-MODIFIED:20260305T152655Z
UID:10000070-1783103400-1783116000@www.weinseminar.de
SUMMARY:Grundseminar: Vielfalt des Wein
DESCRIPTION:Entdecken Sie die faszinierende Welt des Weins in unserem Grundseminar „Vielfalt des Weins“! Cuvée oder reinsortiger Wein – was begeistert mehr? Tauchen Sie ein in die Geschmäcker von Rotwein und erfahren Sie\, warum Prosecco\, Champagner und Rieslingsekt so unterschiedlich wahrgenommen werden. Lassen Sie sich von der Vielfalt der gespritteten Weine überraschen und erweitern Sie Ihre Perspektive auf das\, was Wein wirklich ausmacht!
URL:https://www.weinseminar.de/event/grundseminar-vielfalt-des-wein-2/
LOCATION:Weinschule Berlin\, Goethestraße 71\, Berlin\, Berlin\, 10625\, Germany
CATEGORIES:Grundseminar,Grundseminar Vielfalt
ATTACH;FMTTYPE=image/png:https://www.weinseminar.de/wp-content/uploads/2025/09/bottle-4840001_1280-e1761119909361.png
ORGANIZER;CN="Bernhard Moser":MAILTO:info@weinschule-berlin.de
END:VEVENT
BEGIN:VEVENT
DTSTART;TZID=Europe/Berlin:20260710T183000
DTEND;TZID=Europe/Berlin:20260710T223000
DTSTAMP:20260422T194805
CREATED:20260127T131432Z
LAST-MODIFIED:20260127T133451Z
UID:10000064-1783708200-1783722600@www.weinseminar.de
SUMMARY:Regionsseminar Italien
DESCRIPTION:Entdecken Sie die spannendsten Regionen und erfahren Sie mehr über das großartige Weinland Italien. Das Land macht uns immer wieder glücklich und lässt uns gleichermaßen verzweifeln. Warum\, erfahren Sie an diesem Abend.
URL:https://www.weinseminar.de/event/regionsseminar-italien-ausgebucht/
LOCATION:Weinschule Berlin\, Goethestraße 71\, Berlin\, Berlin\, 10625\, Germany
CATEGORIES:Italien,Regionsseminare
ATTACH;FMTTYPE=image/jpeg:https://www.weinseminar.de/wp-content/uploads/2025/09/village-3667395_1280.jpg
ORGANIZER;CN="Bernhard Moser":MAILTO:info@weinschule-berlin.de
END:VEVENT
BEGIN:VEVENT
DTSTART;TZID=Europe/Berlin:20260711T183000
DTEND;TZID=Europe/Berlin:20260711T220000
DTSTAMP:20260422T194805
CREATED:20221120T113209Z
LAST-MODIFIED:20260202T194052Z
UID:10000001-1783794600-1783807200@www.weinseminar.de
SUMMARY:Riesling- die Königin der Rebsorten
DESCRIPTION:An diesem Abend nähern wir uns dem Phänomen Riesling und zeigen welches Potential in dieser Rebsorte steckt.
URL:https://www.weinseminar.de/event/riesling-die-koenigin-der-rebsorten/
LOCATION:Weinschule Berlin\, Goethestraße 71\, Berlin\, Berlin\, 10625\, Germany
CATEGORIES:Riesling,Sonderseminare
ATTACH;FMTTYPE=image/webp:https://www.weinseminar.de/wp-content/uploads/2025/06/Weinseminare-Sonderseminare-Faesser-Wein-SM.webp
ORGANIZER;CN="Bernhard Moser":MAILTO:info@weinschule-berlin.de
END:VEVENT
BEGIN:VEVENT
DTSTART;TZID=Europe/Berlin:20260912T183000
DTEND;TZID=Europe/Berlin:20260912T220000
DTSTAMP:20260422T194805
CREATED:20260311T094529Z
LAST-MODIFIED:20260407T140741Z
UID:10000071-1789237800-1789250400@www.weinseminar.de
SUMMARY:Champagnerseminar mit Carolina Encalada
DESCRIPTION:An diesem Abend dreht sich alles um das wunderbare Thema Champagner. Welchen Einfluss haben die Herkunft\, die Rebsorten und das Hefelager auch Qualität und Geschmack des edlen Getränkes? Nach einem spannende Theorieteil verkostet die Sommeliére Carolina Encalada 8 unterschiedliche Sorten mit Ihnen. Kaum eine andere Person steht in Berlin so sehr für Leidenschaft für dieses Thema. Sie ist WSET Level 3 Spezialistin und zudem seit 2025 „Champagne Specialist“ (CIVC) Level 4-Mention Excellent. Das bedeutet\, dass sie nicht nur die höchste Stufe des Ausbildungsprogramms des Comité Champagne absolviert\, sondern dieses sogar mit der Bestnote abgeschlossen hat. \n 
URL:https://www.weinseminar.de/event/champagnerseminar-mit-carolina-encelada/
LOCATION:Weinschule Berlin\, Goethestraße 71\, Berlin\, Berlin\, 10625\, Germany
CATEGORIES:Frankreich,Regionsseminare,Sonderseminare
ATTACH;FMTTYPE=image/jpeg:https://www.weinseminar.de/wp-content/uploads/2026/04/Foto-Carolina-2.jpg
END:VEVENT
BEGIN:VEVENT
DTSTART;TZID=Europe/Berlin:20260924T183000
DTEND;TZID=Europe/Berlin:20260924T223000
DTSTAMP:20260422T194805
CREATED:20260325T181835Z
LAST-MODIFIED:20260417T114255Z
UID:10000076-1790274600-1790289000@www.weinseminar.de
SUMMARY:Regionsseminar Frankreich
DESCRIPTION:Verwirrland Frankreich: keine andere Weinregion macht uns so viel Angst wie diese. Kein Wunder bei über 400 Appellationen. Appella… was? Genau das klären wir! Eigentlich ist alles gar nicht so kompliziert. Wir trinken uns von Nord nach Süd.
URL:https://www.weinseminar.de/event/regionsseminar-frankreich/
LOCATION:Weinschule Berlin\, Goethestraße 71\, Berlin\, Berlin\, 10625\, Germany
CATEGORIES:Frankreich,Regionsseminare
ATTACH;FMTTYPE=image/jpeg:https://www.weinseminar.de/wp-content/uploads/2025/09/grapes-1618308_1280.jpg
ORGANIZER;CN="Bernhard Moser":MAILTO:info@weinschule-berlin.de
END:VEVENT
BEGIN:VEVENT
DTSTART;TZID=Europe/Berlin:20260925T183000
DTEND;TZID=Europe/Berlin:20260925T220000
DTSTAMP:20260422T194805
CREATED:20260305T152205Z
LAST-MODIFIED:20260417T115756Z
UID:10000069-1790361000-1790373600@www.weinseminar.de
SUMMARY:Käseseminar für Mutige
DESCRIPTION:Beim Käseseminar nehmen wir noch Rücksicht\, auf die Befindlichkeiten mancher Menschen. Nicht stinken darf er\, der Käse. Nicht zu streng schmecken darf er\, der Käse. Aber nicht an diesem Abend. Beim Käseseminar für Mutige gehen wir an unsere Grenzen – und darüber. Womit wir diese extremen Käse kombinieren\, das sehen Sie an diesem Abend.\nWein allein wird nicht mehr reichen.
URL:https://www.weinseminar.de/event/kaeseseminar-fuer-mutige-3/
LOCATION:Weinschule Berlin\, Goethestraße 71\, Berlin\, Berlin\, 10625\, Germany
CATEGORIES:Käseseminar,Käseseminar für Mutige
ATTACH;FMTTYPE=image/jpeg:https://www.weinseminar.de/wp-content/uploads/2025/09/normandy-2068748_1280.jpg
ORGANIZER;CN="Bernhard Moser":MAILTO:info@weinschule-berlin.de
END:VEVENT
BEGIN:VEVENT
DTSTART;TZID=Europe/Berlin:20260926T183000
DTEND;TZID=Europe/Berlin:20260926T220000
DTSTAMP:20260422T194805
CREATED:20260407T134513Z
LAST-MODIFIED:20260407T140452Z
UID:10000081-1790447400-1790460000@www.weinseminar.de
SUMMARY:Champagnerseminar mit Carolina Encalada
DESCRIPTION:An diesem Abend dreht sich alles um das wunderbare Thema Champagner. Welchen Einfluss haben die Herkunft\, die Rebsorten und das Hefelager auch Qualität und Geschmack des edlen Getränkes? Nach einem spannende Theorieteil verkostet die Sommeliére Carolina Encalada 8 unterschiedliche Sorten mit Ihnen. Kaum eine andere Person steht in Berlin so sehr für Leidenschaft für dieses Thema. Sie ist WSET Level 3 Spezialistin und zudem seit 2025 „Champagne Specialist“ (CIVC) Level 4-Mention Excellent. Das bedeutet\, dass sie nicht nur die höchste Stufe des Ausbildungsprogramms des Comité Champagne absolviert\, sondern dieses sogar mit der Bestnote abgeschlossen hat. \n 
URL:https://www.weinseminar.de/event/champagnerseminar-mit-carolina-encalada/
LOCATION:Weinschule Berlin\, Goethestraße 71\, Berlin\, Berlin\, 10625\, Germany
CATEGORIES:Frankreich,Regionsseminare,Sonderseminare
ATTACH;FMTTYPE=image/jpeg:https://www.weinseminar.de/wp-content/uploads/2026/04/Foto-Carolina-2.jpg
END:VEVENT
BEGIN:VEVENT
DTSTART;TZID=Europe/Berlin:20261002T183000
DTEND;TZID=Europe/Berlin:20261002T223000
DTSTAMP:20260422T194805
CREATED:20260127T131611Z
LAST-MODIFIED:20260127T131611Z
UID:10000065-1790965800-1790980200@www.weinseminar.de
SUMMARY:Grundseminar: Umgang mit Wein
DESCRIPTION:Entscheiden Sie im Supermarkt nach dem Design des Etiketts? Wissen Sie\, was bei der Produktion von Wein passiert und was guten von schlechten Wein unterscheidet? Warum variieren die Preise so enorm? Guter Winzer-böser Winzer…was ist beim traditionellen Weinbau anders\, als beim industriellen? Was regelt das Weingesetz\, uvm…?
URL:https://www.weinseminar.de/event/grundseminar-umgang-mit-wein-2/
LOCATION:Weinschule Berlin\, Goethestraße 71\, Berlin\, Berlin\, 10625\, Germany
CATEGORIES:Grundseminar,Grundseminar Umgang
ATTACH;FMTTYPE=image/jpeg:https://www.weinseminar.de/wp-content/uploads/2017/05/wein-erste-blueten-fotolia_619303-min.jpg
ORGANIZER;CN="Bernhard Moser":MAILTO:info@weinschule-berlin.de
END:VEVENT
BEGIN:VEVENT
DTSTART;TZID=Europe/Berlin:20261003T183000
DTEND;TZID=Europe/Berlin:20261003T220000
DTSTAMP:20260422T194805
CREATED:20250324T150448Z
LAST-MODIFIED:20260127T131851Z
UID:10000025-1791052200-1791064800@www.weinseminar.de
SUMMARY:Regionsseminar Deutschland
DESCRIPTION:Was für ein großartiges Weinland. Die Rieslinge und Spätburgunder haben Weltniveau\, doch auch andere Rebsorten und Weinkonzepte spielen in der Topliga. Von Saale-Unstut bis Baden probieren wir uns durch die Regionen und erklären Ihnen\, warum es sich lohnt\, sich mit deutschem Wein tiefer zu beschäftigen.
URL:https://www.weinseminar.de/event/regionsseminar-deutschland-2/
LOCATION:Weinschule Berlin\, Goethestraße 71\, Berlin\, Berlin\, 10625\, Germany
CATEGORIES:Deutschland,Regionsseminare
ATTACH;FMTTYPE=image/jpeg:https://www.weinseminar.de/wp-content/uploads/2025/09/germany-7264701_1280.jpg
END:VEVENT
BEGIN:VEVENT
DTSTART;TZID=Europe/Berlin:20261009T183000
DTEND;TZID=Europe/Berlin:20261009T220000
DTSTAMP:20260422T194805
CREATED:20260211T072340Z
LAST-MODIFIED:20260211T072340Z
UID:10000068-1791570600-1791583200@www.weinseminar.de
SUMMARY:Degustationsabend
DESCRIPTION:Essen und Wein: wohl die einzige Ehe\, die unscheidbar ist. Doch wie funktioniert es? Wild zu Rotwein und Zander zu Riesling\, das scheint noch nachvollziehbar. Aber wozu kann man denn einen Gewürztraminer trinken?
URL:https://www.weinseminar.de/event/degustationsabend-3/
LOCATION:Weinschule Berlin\, Goethestraße 71\, Berlin\, Berlin\, 10625\, Germany
CATEGORIES:Degustationsabend,Essen und Wein
ATTACH;FMTTYPE=image/jpeg:https://www.weinseminar.de/wp-content/uploads/2017/05/Rotweinglas-weinseminar-berlin_5724846-min.jpg
ORGANIZER;CN="Bernhard Moser":MAILTO:info@weinschule-berlin.de
END:VEVENT
BEGIN:VEVENT
DTSTART;TZID=Europe/Berlin:20261023T183000
DTEND;TZID=Europe/Berlin:20261023T220000
DTSTAMP:20260422T194805
CREATED:20260325T172018Z
LAST-MODIFIED:20260325T172018Z
UID:10000073-1792780200-1792792800@www.weinseminar.de
SUMMARY:Grundseminar: Vielfalt des Wein
DESCRIPTION:Entdecken Sie die faszinierende Welt des Weins in unserem Grundseminar „Vielfalt des Weins“! Cuvée oder reinsortiger Wein – was begeistert mehr? Tauchen Sie ein in die Geschmäcker von Rotwein und erfahren Sie\, warum Prosecco\, Champagner und Rieslingsekt so unterschiedlich wahrgenommen werden. Lassen Sie sich von der Vielfalt der gespritteten Weine überraschen und erweitern Sie Ihre Perspektive auf das\, was Wein wirklich ausmacht!
URL:https://www.weinseminar.de/event/grundseminar-vielfalt-des-wein/
LOCATION:Weinschule Berlin\, Goethestraße 71\, Berlin\, Berlin\, 10625\, Germany
CATEGORIES:Grundseminar,Grundseminar Vielfalt
ATTACH;FMTTYPE=image/png:https://www.weinseminar.de/wp-content/uploads/2025/09/bottle-4840001_1280-e1761119909361.png
ORGANIZER;CN="Bernhard Moser":MAILTO:info@weinschule-berlin.de
END:VEVENT
BEGIN:VEVENT
DTSTART;TZID=Europe/Berlin:20261113T183000
DTEND;TZID=Europe/Berlin:20261113T220000
DTSTAMP:20260422T194805
CREATED:20260325T170702Z
LAST-MODIFIED:20260325T171056Z
UID:10000072-1794594600-1794607200@www.weinseminar.de
SUMMARY:Grundseminar: Umgang mit Wein
DESCRIPTION:Entscheiden Sie im Supermarkt nach dem Design des Etiketts? Wissen Sie\, was bei der Produktion von Wein passiert und was guten von schlechten Wein unterscheidet? Warum variieren die Preise so enorm? Guter Winzer-böser Winzer…was ist beim traditionellen Weinbau anders\, als beim industriellen? Was regelt das Weingesetz\, uvm…?
URL:https://www.weinseminar.de/event/grundseminar-umgang-mit-wein-3/
LOCATION:Weinschule Berlin\, Goethestraße 71\, Berlin\, Berlin\, 10625\, Germany
CATEGORIES:Grundseminar,Grundseminar Umgang
ATTACH;FMTTYPE=image/jpeg:https://www.weinseminar.de/wp-content/uploads/2017/05/wein-erste-blueten-fotolia_619303-min.jpg
ORGANIZER;CN="Bernhard Moser":MAILTO:info@weinschule-berlin.de
END:VEVENT
BEGIN:VEVENT
DTSTART;TZID=Europe/Berlin:20261120T183000
DTEND;TZID=Europe/Berlin:20261120T223000
DTSTAMP:20260422T194805
CREATED:20260325T205009Z
LAST-MODIFIED:20260325T205009Z
UID:10000079-1795199400-1795213800@www.weinseminar.de
SUMMARY:Regionsseminar Spanien
DESCRIPTION:Was für eine Region! In den 80er Jahren noch Außenseiter\, startete Spanien in den 90ern so richtig durch. Ribera del Duero\, Rioja und das Priorat sind zu allererst zu nennen. \nDoch gibt es Weinregionen mit deutlich besserem Preis-Leistungsverhältnis. \nSchon mal was von „Somontano“ gehört?
URL:https://www.weinseminar.de/event/regionsseminar-spanien/
LOCATION:Weinschule Berlin\, Goethestraße 71\, Berlin\, Berlin\, 10625\, Germany
CATEGORIES:Regionsseminare,Spanien
ATTACH;FMTTYPE=image/jpeg:https://www.weinseminar.de/wp-content/uploads/2025/11/barrel-4294861_1280.jpg
ORGANIZER;CN="Bernhard Moser":MAILTO:info@weinschule-berlin.de
END:VEVENT
BEGIN:VEVENT
DTSTART;TZID=Europe/Berlin:20261127T183000
DTEND;TZID=Europe/Berlin:20261127T220000
DTSTAMP:20260422T194805
CREATED:20260325T204700Z
LAST-MODIFIED:20260325T204700Z
UID:10000078-1795804200-1795816800@www.weinseminar.de
SUMMARY:Käseseminar für Mutige
DESCRIPTION:Beim Käseseminar nehmen wir noch Rücksicht\, auf die Befindlichkeiten mancher Menschen. Nicht stinken darf er\, der Käse. Nicht zu streng schmecken darf er\, der Käse. Aber nicht an diesem Abend. Beim Käseseminar für Mutige gehen wir an unsere Grenzen – und darüber. Womit wir diese extremen Käse kombinieren\, das sehen Sie an diesem Abend.\nWein allein wird nicht mehr reichen.
URL:https://www.weinseminar.de/event/kaeseseminar-fuer-mutige/
LOCATION:Weinschule Berlin\, Goethestraße 71\, Berlin\, Berlin\, 10625\, Germany
CATEGORIES:Käseseminar,Käseseminar für Mutige
ATTACH;FMTTYPE=image/jpeg:https://www.weinseminar.de/wp-content/uploads/2025/09/normandy-2068748_1280.jpg
ORGANIZER;CN="Bernhard Moser":MAILTO:info@weinschule-berlin.de
END:VEVENT
BEGIN:VEVENT
DTSTART;TZID=Europe/Berlin:20261204T183000
DTEND;TZID=Europe/Berlin:20261204T220000
DTSTAMP:20260422T194805
CREATED:20260325T205201Z
LAST-MODIFIED:20260325T205201Z
UID:10000080-1796409000-1796421600@www.weinseminar.de
SUMMARY:Degustationsabend
DESCRIPTION:Essen und Wein: wohl die einzige Ehe\, die unscheidbar ist. Doch wie funktioniert es? Wild zu Rotwein und Zander zu Riesling\, das scheint noch nachvollziehbar. Aber wozu kann man denn einen Gewürztraminer trinken?
URL:https://www.weinseminar.de/event/degustationsabend-4/
LOCATION:Weinschule Berlin\, Goethestraße 71\, Berlin\, Berlin\, 10625\, Germany
CATEGORIES:Degustationsabend,Essen und Wein
ATTACH;FMTTYPE=image/jpeg:https://www.weinseminar.de/wp-content/uploads/2017/05/Rotweinglas-weinseminar-berlin_5724846-min.jpg
ORGANIZER;CN="Bernhard Moser":MAILTO:info@weinschule-berlin.de
END:VEVENT
END:VCALENDAR